BEGIN:VCALENDAR
VERSION:2.0
PRODID:-//Bembridge WI - ECPv4.6//NONSGML v1.0//EN
CALSCALE:GREGORIAN
METHOD:PUBLISH
X-WR-CALNAME:Bembridge WI
X-ORIGINAL-URL:https://bembridgewindmillwi.co.uk
X-WR-CALDESC:Events for Bembridge WI
BEGIN:VEVENT
DTSTART;TZID=Europe/London:20250616T193000
DTEND;TZID=Europe/London:20250616T210000
DTSTAMP:20260424T094329
CREATED:20250427T201413Z
LAST-MODIFIED:20250427T201413Z
UID:1432-1750102200-1750107600@bembridgewindmillwi.co.uk
SUMMARY:Main Meeting: Annual Meeting\, Bursary Feedback and Draw\, 2026 Charity Choice and Let's Gamble
DESCRIPTION:
URL:https://bembridgewindmillwi.co.uk/event/main-meeting-annual-meeting-bursary-feedback-and-draw-2026-charity-choice-and-lets-gamble/
LOCATION:High Street\, Bembridge\, United Kingdom
CATEGORIES:Main meetings
END:VEVENT
END:VCALENDAR